BEGIN:VCALENDAR
VERSION:2.0
PRODID:icalendar-ruby
CALSCALE:GREGORIAN
METHOD:PUBLISH
BEGIN:VEVENT
DTSTAMP:20260422T222727Z
UID:325-246980@harmonybaptist.ca
DTSTART:20260925T223000Z
DTEND:20260926T003000Z
CLASS:PUBLIC
CREATED:20260422T180627
DESCRIPTION:Fridays – Harmony Youth! Ages 10+  6:30–8:30 PMFun\, frie
 nds\, and faith—come hang out\, play games\, and grow together!
LAST-MODIFIED:20260422T180627
LOCATION:
SUMMARY:Harmony Youth
URL;VALUE=URI:https://www.harmonybaptist.ca/events/harmony-youth--325/2026-
 09-25
ATTACH;FILENAME=Harmony-Youth-website.jpg;FMTTYPE=image/jpeg:https://dq5pwp
 g1q8ru0.cloudfront.net/2025/11/11/16/50/19/57968d0a-1334-47d7-bacc-659f243
 b82bf/Harmony-Youth-website.jpg
END:VEVENT
END:VCALENDAR
